BEGIN:VCALENDAR
VERSION:2.0
PRODID:-//wp-events-plugin.com//7.2.3.1//EN
BEGIN:VEVENT
UID:159@vcw-crater.com
DTSTART:20260416T090000Z
DTEND:20260416T150000Z
DTSTAMP:20260414T184137Z
URL:https://vcw-crater.com/events/hiring-event-virginia-department-of-corr
 ections/
SUMMARY:Hiring Event - Virginia Department of Corrections
DESCRIPTION:Join us on April 16th from 9am - 3pm at 4300 Crossings Blvd\, P
 rince George for a hiring event with the Virginia Department of Correction
 s. Meet with hiring representatives from VA DOC and learn more about what 
 a career in connections might look like for you!\n\nClick here to see ope
 n positions.\n\n
END:VEVENT
END:VCALENDAR